BEGIN:VCALENDAR
VERSION:2.0
PRODID:-//Senter for datadrevet innovasjon - ECPv6.15.17.1//NONSGML v1.0//EN
CALSCALE:GREGORIAN
METHOD:PUBLISH
X-WR-CALNAME:Senter for datadrevet innovasjon
X-ORIGINAL-URL:https://datadrevetinnovasjon.no
X-WR-CALDESC:Arrangement for Senter for datadrevet innovasjon
REFRESH-INTERVAL;VALUE=DURATION:PT1H
X-Robots-Tag:noindex
X-PUBLISHED-TTL:PT1H
BEGIN:VTIMEZONE
TZID:Europe/Oslo
BEGIN:DAYLIGHT
TZOFFSETFROM:+0100
TZOFFSETTO:+0200
TZNAME:CEST
DTSTART:20240331T010000
END:DAYLIGHT
BEGIN:STANDARD
TZOFFSETFROM:+0200
TZOFFSETTO:+0100
TZNAME:CET
DTSTART:20241027T010000
END:STANDARD
BEGIN:DAYLIGHT
TZOFFSETFROM:+0100
TZOFFSETTO:+0200
TZNAME:CEST
DTSTART:20250330T010000
END:DAYLIGHT
BEGIN:STANDARD
TZOFFSETFROM:+0200
TZOFFSETTO:+0100
TZNAME:CET
DTSTART:20251026T010000
END:STANDARD
BEGIN:DAYLIGHT
TZOFFSETFROM:+0100
TZOFFSETTO:+0200
TZNAME:CEST
DTSTART:20260329T010000
END:DAYLIGHT
BEGIN:STANDARD
TZOFFSETFROM:+0200
TZOFFSETTO:+0100
TZNAME:CET
DTSTART:20261025T010000
END:STANDARD
END:VTIMEZONE
BEGIN:VEVENT
DTSTART;TZID=Europe/Oslo:20250604T140000
DTEND;TZID=Europe/Oslo:20250604T160000
DTSTAMP:20260424T024804
CREATED:20250520T063014Z
LAST-MODIFIED:20250520T063411Z
UID:664-1749045600-1749052800@datadrevetinnovasjon.no
SUMMARY:Workshop: ENERSHARE
DESCRIPTION:  \nBli med på ENERSHARE-workshopen under AI+ Conference i Halden!\nLedet av Massimo Bertoncini (Senior Innovation Manager\, R&D Smart Energy Lab) og Thomas Mikkelsen (Head of International Operations\, Smart Innovation Norway) \nOppdag hvordan ENERSHARE former Europas energiframtid gjennom sikker datadeling\, sektoruavhengig interoperabilitet og AI-drevne innovasjoner. Denne interaktive workshopen gir en unik mulighet til å: \n· Utforske det første rammeverket for et felles europeisk energidatarom (Common European Energy Data Space)\, validert gjennom 7 virkelige piloter i 11 brukstilfeller. \n· Teste banebrytende verktøy som Digital Twin for investeringsplanlegging av Power-to-Gas\, for å optimalisere integrering av fornybar energi. \n· Møte eksperter som driver EU-omspennende initiativer for energiomstilling\, inkludert innsikt fra milepæler som Energy Data Spaces Symposium 2025. \nHvorfor delta? \n· Praktiske økter: Simuler datadrevne energiscenarioer og samarbeid om konkrete løsninger. \n· Nettverk med pionerer innen digitalisering av energi og bruk av kunstig intelligens. \n· Form fremtiden: Bidra til skalerbare strategier for avkarboniserte og deltagende energisystemer. \nSted: Samme arena som AI+ Party at AI+\, som inkluderer “Quantum Pre-Party” rett etter workshopen. Merk at du må registrere deg separat for AI+ Party. \nGratis deltakelse. \nRegistrer deg
URL:https://datadrevetinnovasjon.no/event/workshop-enershare/
LOCATION:Kulturhuset i Halden\, Tordenskjolds gate 1\, Halden\, 1776\, Norway
ATTACH;FMTTYPE=image/jpeg:https://datadrevetinnovasjon.no/wp-content/uploads/sites/36/2025/05/shutterstock_2298427851.jpg
END:VEVENT
BEGIN:VEVENT
DTSTART;TZID=Europe/Oslo:20250605T090000
DTEND;TZID=Europe/Oslo:20250605T113000
DTSTAMP:20260424T024804
CREATED:20250331T121218Z
LAST-MODIFIED:20250515T111322Z
UID:446-1749114000-1749123000@datadrevetinnovasjon.no
SUMMARY:AI+ Datasharing
DESCRIPTION:I dagens globale landskap er det viktigere enn noensinne å kunne stole på dataene dine. Pålitelig data og datadeling er en nøkkelfaktor for å kunne bruke kunstig intelligens på kritiske data. \nLes mer og meld deg på via aiplus.no \nMerk! Arrangementet foregår på engelsk.
URL:https://datadrevetinnovasjon.no/event/ai-and-datasharing/
LOCATION:IFE Halden\, Os alle 5\, Halden\, Østfold\, 1777\, Norway
ATTACH;FMTTYPE=image/jpeg:https://datadrevetinnovasjon.no/wp-content/uploads/sites/36/2025/03/20220504_IA-IFE-for-lunsj-26-e1739895256984-2048x1102-1.jpg
END:VEVENT
END:VCALENDAR